BEGIN:VCALENDAR
VERSION:2.0
PRODID:-//CC-TOP - ECPv6.14.0//NONSGML v1.0//EN
CALSCALE:GREGORIAN
METHOD:PUBLISH
X-WR-CALNAME:CC-TOP
X-ORIGINAL-URL:https://cc-top-itn.eu
X-WR-CALDESC:Events for CC-TOP
REFRESH-INTERVAL;VALUE=DURATION:PT1H
X-Robots-Tag:noindex
X-PUBLISHED-TTL:PT1H
BEGIN:VTIMEZONE
TZID:Europe/Berlin
BEGIN:DAYLIGHT
TZOFFSETFROM:+0100
TZOFFSETTO:+0200
TZNAME:CEST
DTSTART:20240331T010000
END:DAYLIGHT
BEGIN:STANDARD
TZOFFSETFROM:+0200
TZOFFSETTO:+0100
TZNAME:CET
DTSTART:20241027T010000
END:STANDARD
END:VTIMEZONE
BEGIN:VEVENT
DTSTART;TZID=Europe/Berlin:20240527T000000
DTEND;TZID=Europe/Berlin:20240822T000000
DTSTAMP:20260425T102414
CREATED:20220817T075330Z
LAST-MODIFIED:20221130T084146Z
UID:943-1716768000-1724284800@cc-top-itn.eu
SUMMARY:D1.6 Report on...structure-function...within the PEPs...TUDA - M42
DESCRIPTION:
URL:https://cc-top-itn.eu/event/d1-6-report-on-structure-function-within-the-peps-uam-m42/
CATEGORIES:Deliverables
END:VEVENT
BEGIN:VEVENT
DTSTART;TZID=Europe/Berlin:20240603T080000
DTEND;TZID=Europe/Berlin:20240822T170000
DTSTAMP:20260425T102414
CREATED:20220817T132337Z
LAST-MODIFIED:20221125T092720Z
UID:957-1717401600-1724346000@cc-top-itn.eu
SUMMARY:D2.7 Report on ...s-TKs - UCL M42
DESCRIPTION:
URL:https://cc-top-itn.eu/event/d2-7-report-on-s-tks-ucl-m42/
CATEGORIES:Deliverables
END:VEVENT
BEGIN:VEVENT
DTSTART;TZID=Europe/Berlin:20240603T080000
DTEND;TZID=Europe/Berlin:20240822T170000
DTSTAMP:20260425T102414
CREATED:20220817T133847Z
LAST-MODIFIED:20221125T092711Z
UID:968-1717401600-1724346000@cc-top-itn.eu
SUMMARY:D4.2 Final Outreach Conference Report - CSIC (TUDA) M42
DESCRIPTION:
URL:https://cc-top-itn.eu/event/d4-2-final-outreach-conference-report-csic-tuda-m42/
CATEGORIES:Deliverables
END:VEVENT
END:VCALENDAR